BEGIN:VCALENDAR
VERSION:2.0
PRODID:spatie/icalendar-generator
NAME:Veiligheidscoalitie agenda
X-WR-CALNAME:Veiligheidscoalitie agenda
BEGIN:VTIMEZONE
TZID:Europe/Amsterdam
BEGIN:STANDARD
DTSTART:20251026T030000
TZOFFSETFROM:+0200
TZOFFSETTO:+0100
END:STANDARD
BEGIN:DAYLIGHT
DTSTART:20260329T010000
TZOFFSETFROM:+0100
TZOFFSETTO:+0200
END:DAYLIGHT
BEGIN:STANDARD
DTSTART:20261025T030000
TZOFFSETFROM:+0200
TZOFFSETTO:+0100
END:STANDARD
END:VTIMEZONE
BEGIN:VTIMEZONE
TZID:UTC
BEGIN:STANDARD
DTSTART:20250726T152738
TZOFFSETFROM:+0000
TZOFFSETTO:+0000
END:STANDARD
END:VTIMEZONE
BEGIN:VEVENT
UID:actiedag-echt-niet-vandaag-2026
DTSTAMP:20260422T152738Z
SUMMARY:Actiedag Echt niet Vandaag!
DESCRIPTION:Zuid-Holland komt in actie tegen digitale criminaliteit! Regio 
 Rotterdam en Regio Den Haag organiseren op 3 juni de regionale actiedag 
 ‘Echt niet vandaag’. De initiatiefnemers roepen iedereen (bedrijven\, 
 (semi-)overheid\, scholen\, verenigingen en inwoners) in Regio Rotterdam o
 p om op 3 juni 2026 mee te doen en activiteiten te organiseren die inwoner
 s weerbaarder maken tegen digitale criminaliteit of de bewustwording vergr
 oten.
IMAGE;VALUE=URI:https://get.sitecache.nl/var/1774529285/assets/public/image
 s/calendars/image/124_image.jpg
DTSTART;TZID=Europe/Amsterdam:20260603T080000
DTEND;TZID=Europe/Amsterdam:20260603T220000
END:VEVENT
END:VCALENDAR