BEGIN:VCALENDAR
VERSION:2.0
PRODID:spatie/icalendar-generator
NAME:Veiligheidscoalitie agenda
X-WR-CALNAME:Veiligheidscoalitie agenda
BEGIN:VTIMEZONE
TZID:Europe/Amsterdam
BEGIN:STANDARD
DTSTART:20251026T030000
TZOFFSETFROM:+0200
TZOFFSETTO:+0100
END:STANDARD
BEGIN:DAYLIGHT
DTSTART:20260329T010000
TZOFFSETFROM:+0100
TZOFFSETTO:+0200
END:DAYLIGHT
BEGIN:STANDARD
DTSTART:20261025T030000
TZOFFSETFROM:+0200
TZOFFSETTO:+0100
END:STANDARD
END:VTIMEZONE
BEGIN:VTIMEZONE
TZID:UTC
BEGIN:STANDARD
DTSTART:20250726T153049
TZOFFSETFROM:+0000
TZOFFSETTO:+0000
END:STANDARD
END:VTIMEZONE
BEGIN:VEVENT
UID:netwerkbijeenkomst-zorg-veiligheid
DTSTAMP:20260422T153049Z
SUMMARY:Netwerkbijeenkomst Zorg & Veiligheid
DESCRIPTION:Netwerkbijeenkomst Zorg & Veiligheid 
LOCATION:n.t.b.
IMAGE;VALUE=URI:https://get.sitecache.nl/var/1765810482/assets/public/image
 s/calendars/image/115_image.jpg
DTSTART;TZID=Europe/Amsterdam:20260702T140000
DTEND;TZID=Europe/Amsterdam:20260702T170000
END:VEVENT
END:VCALENDAR