BEGIN:VCALENDAR
VERSION:2.0
PRODID:spatie/icalendar-generator
NAME:Veiligheidscoalitie agenda
X-WR-CALNAME:Veiligheidscoalitie agenda
BEGIN:VTIMEZONE
TZID:Europe/Amsterdam
BEGIN:DAYLIGHT
DTSTART:20260329T010000
TZOFFSETFROM:+0100
TZOFFSETTO:+0200
END:DAYLIGHT
BEGIN:STANDARD
DTSTART:20261025T030000
TZOFFSETFROM:+0200
TZOFFSETTO:+0100
END:STANDARD
BEGIN:DAYLIGHT
DTSTART:20270328T010000
TZOFFSETFROM:+0100
TZOFFSETTO:+0200
END:DAYLIGHT
END:VTIMEZONE
BEGIN:VTIMEZONE
TZID:UTC
BEGIN:STANDARD
DTSTART:20250726T153408
TZOFFSETFROM:+0000
TZOFFSETTO:+0000
END:STANDARD
END:VTIMEZONE
BEGIN:VEVENT
UID:netwerkbijeenkomst-digitale-veiligheid-2
DTSTAMP:20260422T153408Z
SUMMARY:Netwerkbijeenkomst digitale veiligheid
DESCRIPTION:De derde netwerkbijeenkomst digitale veiligheid van 2026
LOCATION:n.t.b.
IMAGE;VALUE=URI:https://get.sitecache.nl/var//assets/public/images/calendar
 s/image/113_image.jpg
DTSTART;TZID=Europe/Amsterdam:20261125T100000
DTEND;TZID=Europe/Amsterdam:20261125T133000
END:VEVENT
END:VCALENDAR