BEGIN:VCALENDAR
VERSION:2.0
PRODID:spatie/icalendar-generator
NAME:Veiligheidscoalitie agenda
X-WR-CALNAME:Veiligheidscoalitie agenda
BEGIN:VTIMEZONE
TZID:Europe/Amsterdam
BEGIN:DAYLIGHT
DTSTART:20260329T010000
TZOFFSETFROM:+0100
TZOFFSETTO:+0200
END:DAYLIGHT
BEGIN:STANDARD
DTSTART:20261025T030000
TZOFFSETFROM:+0200
TZOFFSETTO:+0100
END:STANDARD
BEGIN:DAYLIGHT
DTSTART:20270328T010000
TZOFFSETFROM:+0100
TZOFFSETTO:+0200
END:DAYLIGHT
END:VTIMEZONE
BEGIN:VTIMEZONE
TZID:UTC
BEGIN:STANDARD
DTSTART:20250726T153019
TZOFFSETFROM:+0000
TZOFFSETTO:+0000
END:STANDARD
END:VTIMEZONE
BEGIN:VEVENT
UID:netwerkbijeenkomst-jeugd-veiligheid-1
DTSTAMP:20260422T153019Z
SUMMARY:Netwerkbijeenkomst Jeugd & Veiligheid
DESCRIPTION:Deze bijeenkomst is uitsluitend bedoeld voor leden van het netw
 erk Jeugd & Veiligheid van de VeiligheidsAlliantie Rotterdam.
IMAGE;VALUE=URI:https://get.sitecache.nl/var/1770643734/assets/public/image
 s/calendars/image/110_image.jpg
DTSTART;TZID=Europe/Amsterdam:20261112T100000
DTEND;TZID=Europe/Amsterdam:20261112T120000
END:VEVENT
END:VCALENDAR