BEGIN:VCALENDAR
VERSION:2.0
PRODID:spatie/icalendar-generator
NAME:Veiligheidscoalitie agenda
X-WR-CALNAME:Veiligheidscoalitie agenda
BEGIN:VTIMEZONE
TZID:Europe/Amsterdam
BEGIN:DAYLIGHT
DTSTART:20260329T010000
TZOFFSETFROM:+0100
TZOFFSETTO:+0200
END:DAYLIGHT
BEGIN:STANDARD
DTSTART:20261025T030000
TZOFFSETFROM:+0200
TZOFFSETTO:+0100
END:STANDARD
BEGIN:DAYLIGHT
DTSTART:20270328T010000
TZOFFSETFROM:+0100
TZOFFSETTO:+0200
END:DAYLIGHT
END:VTIMEZONE
BEGIN:VTIMEZONE
TZID:UTC
BEGIN:STANDARD
DTSTART:20250726T153407
TZOFFSETFROM:+0000
TZOFFSETTO:+0000
END:STANDARD
END:VTIMEZONE
BEGIN:VEVENT
UID:netwerkbijeenkomst-maatschappelijk-ongenoegen-1
DTSTAMP:20260422T153407Z
SUMMARY:Netwerkbijeenkomst Maatschappelijk Ongenoegen
DESCRIPTION:De derde netwerkbijeenkomst maatschappelijk ongenoegen van 2026
 .
IMAGE;VALUE=URI:https://get.sitecache.nl/var/1765463100/assets/public/image
 s/calendars/image/102_image.jpg
DTSTART;TZID=Europe/Amsterdam:20261105T100000
DTEND;TZID=Europe/Amsterdam:20261105T133000
END:VEVENT
END:VCALENDAR